BEGIN:VCALENDAR
PRODID:-//kirchenweb.ch gmbh//veranstaltungsausgabe v2.0//DE
VERSION:2.0
METHOD:PUBLISH
BEGIN:VEVENT
DTSTART:20241209T183000Z
DTEND:20241209T200000Z
LOCATION:Kirchgemeindehaus Haldenbüel\, Hochstrasse 4a\, 9200 Gossau
TRANSP:OPAQUE
SEQUENCE:0
UID:37529-veranstaltung@kirche-gossau-flawil.ch
DTSTAMP:20240925T092233Z
DESCRIPTION:NewLightz - das ist die Lobpreis BAND der evangelischen Kirche
  Haldenbüel\, welche in enger Zusammenarbeit mit dem Pfarrteam die neuen
  Pop uP! Gottesdienste musikalisch gestaltet. Das Repertoire der kompakten
  Gottesdienst BAND besteht aus Liedern des Gesangbuches "Rise up Plus"
  sowie den Singtagliederbüchern der Kantonalkirche SG und weiteren
  Liedern aus dem Bereich Worship/Gospel und Lobpreis.\n\nDu kannst bei der
  Probe dabei sein\, komm einfach in die Kirche\, höre still zu oder mach
  bei Lust und Laune mit!\n\nKontakt: Jonathan Schaffner\, Kirchenmusiker\n
 \nWeitere Infos: https://www.kirche-gossau-flawil.ch/veranstaltung/37529
SUMMARY:Probe NewLightz
PRIORITY:5
X-MICROSOFT-CDO-IMPORTANCE:1
CLASS:PUBLIC
END:VEVENT
END:VCALENDAR
