BEGIN:VCALENDAR
PRODID:-//kirchenweb.ch gmbh//veranstaltungsausgabe v2.0//DE
VERSION:2.0
METHOD:PUBLISH
BEGIN:VEVENT
DTSTART:20241205T083000Z
DTEND:20241205T093000Z
LOCATION:Betagtenzentrum Schwalbe\, Schwalbenstr. 3\, 9200 Gossau
TRANSP:OPAQUE
SEQUENCE:0
UID:37615-veranstaltung@kirche-gossau-flawil.ch
DTSTAMP:20231030T135223Z
DESCRIPTION:Herzlich eingeladen sind Heimbewohner und -bewohnerinnen aber
  natürlich auch Besucherinnen und Besucher\n\nKontakt: Pfarrerin
  Friederike Herbrechtsmeier\n\nWeitere Infos:
  https://www.kirche-gossau-flawil.ch/veranstaltung/37615
SUMMARY:Heimgottesdienst Betagtenzentrum Schwalbe
PRIORITY:5
X-MICROSOFT-CDO-IMPORTANCE:1
CLASS:PUBLIC
END:VEVENT
END:VCALENDAR
