BEGIN:VCALENDAR
PRODID:-//kirchenweb.ch gmbh//veranstaltungsausgabe v2.0//DE
VERSION:2.0
METHOD:PUBLISH
BEGIN:VEVENT
DTSTART:20241209T130000Z
DTEND:20241209T140000Z
LOCATION:Kirchgemeindehaus Haldenbüel - im Kursraum\, Hochstrasse 4a\,
  9200 Gossau
TRANSP:OPAQUE
SEQUENCE:0
UID:37936-veranstaltung@kirche-gossau-flawil.ch
DTSTAMP:20241021T064707Z
DESCRIPTION:Die Gruppe strickt auch nach Mass und Ihren Wünschen.\n
 \nKontakt: Frau Agi Frei\nHirschenstrasse 44\n9200 Gossau\nTelefon 071 385
  36 46\n\nWeitere Infos:
  https://www.kirche-gossau-flawil.ch/veranstaltung/37936
SUMMARY:Lismigruppe
PRIORITY:5
X-MICROSOFT-CDO-IMPORTANCE:1
CLASS:PUBLIC
END:VEVENT
END:VCALENDAR
