BEGIN:VCALENDAR
PRODID:-//kirchenweb.ch gmbh//veranstaltungsausgabe v2.0//DE
VERSION:2.0
METHOD:PUBLISH
BEGIN:VEVENT
DTSTART:20241204T130000Z
DTEND:20241204T160000Z
LOCATION:Gemeinschaftshaus Witenwis\, Neuchlenstrasse 38\, 9200 Gossau
TRANSP:OPAQUE
SEQUENCE:0
UID:40056-veranstaltung@kirche-gossau-flawil.ch
DTSTAMP:20240504T172735Z
DESCRIPTION:Drinks- Snacks- Fun- Friends- Music\n\nDer Jungendtreff ist
  für alle der 4. bis 6. Klasse offen.\n\nKontakt: SRie\n\nWeitere Infos:
  https://www.kirche-gossau-flawil.ch/veranstaltung/40056
SUMMARY:Westhouse Junior
PRIORITY:5
X-MICROSOFT-CDO-IMPORTANCE:1
CLASS:PUBLIC
END:VEVENT
END:VCALENDAR
