BEGIN:VCALENDAR
PRODID:-//kirchenweb.ch gmbh//veranstaltungsausgabe v2.0//DE
VERSION:2.0
METHOD:PUBLISH
BEGIN:VEVENT
DTSTART:20241204T130000Z
DTEND:20241204T150000Z
LOCATION:Altersheim Abendruh\, Bedastrasse 19\, 9200 Gossau
TRANSP:OPAQUE
SEQUENCE:0
UID:40057-veranstaltung@kirche-gossau-flawil.ch
DTSTAMP:20240504T172802Z
DESCRIPTION:Die Erlebnisprogramme (EP) sind Teil der Voraussetzungen für
  die Konfirmation und sind ein Wahlpflichtprogramm für die 7. bis 9.
  Klasse. Eine Anmeldung auf http://www.pfefferstern.ch ist verpflichtend.
 \n\nKontakt: Sarah Rieser\, Jugendarbeiterin\n\nWeitere Infos:
  https://www.kirche-gossau-flawil.ch/veranstaltung/40057
SUMMARY:EP Altersheim
PRIORITY:5
X-MICROSOFT-CDO-IMPORTANCE:1
CLASS:PUBLIC
END:VEVENT
END:VCALENDAR
