BEGIN:VCALENDAR
PRODID:-//kirchenweb.ch gmbh//veranstaltungsausgabe v2.0//DE
VERSION:2.0
METHOD:PUBLISH
BEGIN:VEVENT
DTSTART:20241204T160000Z
DTEND:20241204T173000Z
LOCATION:Gemeinschaftshaus Witenwis\, Neuchlenstrasse 38\, 9200 Gossau
TRANSP:OPAQUE
SEQUENCE:0
UID:40105-veranstaltung@kirche-gossau-flawil.ch
DTSTAMP:20240507T130134Z
DESCRIPTION:Kontakt: Pfarrer Christian Bernhard-Bergmaier\n\nWeitere
  Infos: https://www.kirche-gossau-flawil.ch/veranstaltung/40105
SUMMARY:Konfabend 1
PRIORITY:5
X-MICROSOFT-CDO-IMPORTANCE:1
CLASS:PUBLIC
END:VEVENT
END:VCALENDAR
