BEGIN:VCALENDAR
PRODID:-//kirchenweb.ch gmbh//veranstaltungsausgabe v2.0//DE
VERSION:2.0
METHOD:PUBLISH
BEGIN:VEVENT
DTSTART:20241204T181500Z
DTEND:20241204T194500Z
LOCATION:Gemeinschaftshaus Witenwis\, Neuchlenstrasse 38\, 9200 Gossau
TRANSP:OPAQUE
SEQUENCE:0
UID:40115-veranstaltung@kirche-gossau-flawil.ch
DTSTAMP:20240507T131832Z
DESCRIPTION:Kontakt: Pfarrer Christian Bernhard-Bergmaier\n\nWeitere
  Infos: https://www.kirche-gossau-flawil.ch/veranstaltung/40115
SUMMARY:Konfabend 2
PRIORITY:5
X-MICROSOFT-CDO-IMPORTANCE:1
CLASS:PUBLIC
END:VEVENT
END:VCALENDAR
