BEGIN:VCALENDAR
PRODID:-//kirchenweb.ch gmbh//veranstaltungsausgabe v2.0//DE
VERSION:2.0
METHOD:PUBLISH
BEGIN:VEVENT
DTSTART:20260819T094500Z
DTEND:20260819T104500Z
LOCATION:Kirchgemeindehaus Haldenbüel\, Hochstrasse 4a\, 9200 Gossau
TRANSP:OPAQUE
SEQUENCE:0
UID:42033-veranstaltung@kirche-gossau-flawil.ch
DTSTAMP:20260126T080614Z
DESCRIPTION:Margrit Frei sowie ihr Team freuen sich\, Sie beim
  Senioren-Mittagessen willkommen zu heissen. Der Speisesaal wird jedes Mal
  liebevoll eingerichtet und das 4-Gang Menue wird von fleissigen
  Helferinnen zubereitet. Kommen Sie doch vorbei\, Sie sind herzlich
  willkommen.\n\nAnmeldungen werden bis Montagabend vor dem Mittagessen von
  Margrit Frei (Mo-Fr\, 11-14 Uhr\, 071 385 60 75\, efrei41@bluewin.ch)
  oder vom Sekretariat\, 071 577 09 40\, entgegengenommen.\n\nBei Bedarf
  besteht ein Fahrdienst. Anmeldung bei Hanspeter Frischknecht\, 079 782 87
  91.\n\nKontakt: Sekretariat\n\nWeitere Infos:
  https://www.kirche-gossau-flawil.ch/veranstaltung/42033
SUMMARY:Senioren-Mittagessen
PRIORITY:5
X-MICROSOFT-CDO-IMPORTANCE:1
CLASS:PUBLIC
END:VEVENT
END:VCALENDAR
