BEGIN:VCALENDAR
PRODID:-//kirchenweb.ch gmbh//veranstaltungsausgabe v2.0//DE
VERSION:2.0
METHOD:PUBLISH
BEGIN:VEVENT
DTSTART:20260527T095000Z
DTEND:20260527T143000Z
LOCATION:Gemeinschaftshaus Witenwis\, Neuchlenstrasse 38\, 9200 Gossau
TRANSP:OPAQUE
SEQUENCE:0
UID:43527-veranstaltung@kirche-gossau-flawil.ch
DTSTAMP:20250620T134034Z
DESCRIPTION:Programm für Kinder einmal im Monat (jeweils/mehrheitlich am
  letzten Mittwoch). Wir gehen raus\, basteln und spielen. Mittagstisch
  (mit Anmeldung!) ab 11.50 Uhr und Nachmittagsprogramm ab 13.30 bis 16.30
  Uhr.\n\nKosten für Mittagstisch (6-mal; bitte beim ersten Besuch vor Ort
  bezahlen):\nCHF 60.00 für ein Kind\nCHF 108.00 für zwei Kinder \n\nDie
  Teilnahme am Nachmittagsprogramm ist kostenlos.\n\nErika Steingruber\n
 \nKontakt: Erika Steingruber\n\nWeitere Infos:
  https://www.kirche-gossau-flawil.ch/veranstaltung/43527
SUMMARY:Jojo für Kinder ab der 1. Klasse
PRIORITY:5
X-MICROSOFT-CDO-IMPORTANCE:1
CLASS:PUBLIC
END:VEVENT
END:VCALENDAR
