BEGIN:VCALENDAR
PRODID:-//kirchenweb.ch gmbh//veranstaltungsausgabe v2.0//DE
VERSION:2.0
METHOD:PUBLISH
BEGIN:VEVENT
DTSTART:20260913T074000Z
DTEND:20260913T084000Z
LOCATION:Kirche Haldenbüel\, Hochstrasse 2\, 9200 Gossau
TRANSP:OPAQUE
SEQUENCE:0
UID:43816-veranstaltung@kirche-gossau-flawil.ch
DTSTAMP:20260302T092933Z
DESCRIPTION:Kontakt: Pfarrer Hannes Witzig-Brändli\n\nWeitere Infos:
  https://www.kirche-gossau-flawil.ch/veranstaltung/43816
SUMMARY:Gottesdienst «Family Time» Kindertage
PRIORITY:5
X-MICROSOFT-CDO-IMPORTANCE:1
CLASS:PUBLIC
END:VEVENT
END:VCALENDAR
