BEGIN:VCALENDAR
PRODID:-//kirchenweb.ch gmbh//veranstaltungsausgabe v2.0//DE
VERSION:2.0
METHOD:PUBLISH
BEGIN:VEVENT
DTSTART:20260429T113000Z
DTEND:20260429T143000Z
LOCATION:Gemeinschaftshaus Witenwis\, Neuchlenstrasse 38\, 9200 Gossau
TRANSP:OPAQUE
SEQUENCE:0
UID:44236-veranstaltung@kirche-gossau-flawil.ch
DTSTAMP:20250521T133403Z
DESCRIPTION:Der Konfnachmittag ist obligatorischer Teil des Erlebnisjahres
  der 7. und 8. Klasse.\n\nKontakt: Brigitte Süess\, Jugendarbeiterin\n
 \nSarah Rieser\, Jugendarbeiterin\n\nWeitere Infos:
  https://www.kirche-gossau-flawil.ch/veranstaltung/44236
SUMMARY:Konfnachmittag
PRIORITY:5
X-MICROSOFT-CDO-IMPORTANCE:1
CLASS:PUBLIC
END:VEVENT
END:VCALENDAR
