BEGIN:VCALENDAR
PRODID:-//kirchenweb.ch gmbh//veranstaltungsausgabe v2.0//DE
VERSION:2.0
METHOD:PUBLISH
BEGIN:VEVENT
DTSTART:20260506T120000Z
DTEND:20260506T143000Z
LOCATION:Gemeinschaftshaus Witenwis\, Neuchlenstrasse 38\, 9200 Gossau
TRANSP:OPAQUE
SEQUENCE:0
UID:44239-veranstaltung@kirche-gossau-flawil.ch
DTSTAMP:20251204T080129Z
DESCRIPTION:drinks - snacks - fun - friends - music\n\nDer Jugendtreff ist
  für alle Jugendlichen der 4. bis 6. Klasse geöffnet.\n\nKontakt: Simon
  Sigg\, Jugendarbeiter\n\nWeitere Infos:
  https://www.kirche-gossau-flawil.ch/veranstaltung/44239
SUMMARY:Westhouse Junior
PRIORITY:5
X-MICROSOFT-CDO-IMPORTANCE:1
CLASS:PUBLIC
END:VEVENT
END:VCALENDAR
