BEGIN:VCALENDAR
PRODID:-//kirchenweb.ch gmbh//veranstaltungsausgabe v2.0//DE
VERSION:2.0
METHOD:PUBLISH
BEGIN:VEVENT
DTSTART:20260509T160000Z
DTEND:20260509T180000Z
LOCATION:Gemeinschaftshaus Witenwis\, Neuchlenstrasse 38\, 9200 Gossau
TRANSP:OPAQUE
SEQUENCE:0
UID:44242-veranstaltung@kirche-gossau-flawil.ch
DTSTAMP:20250820T054423Z
DESCRIPTION:Spass- Gemeinschaft- tolle Zeit- spannende Inputs\n\nBlox- die
  Jugendgruppe für alle von der 4. bis zur 8. Klasse.\n\nKontakt: Sarah
  Rieser\, Jugendarbeiteri\n\nWeitere Infos:
  https://www.kirche-gossau-flawil.ch/veranstaltung/44242
SUMMARY:Blox- Let's find the flowerbowls
PRIORITY:5
X-MICROSOFT-CDO-IMPORTANCE:1
CLASS:PUBLIC
END:VEVENT
END:VCALENDAR
