BEGIN:VCALENDAR
PRODID:-//kirchenweb.ch gmbh//veranstaltungsausgabe v2.0//DE
VERSION:2.0
METHOD:PUBLISH
BEGIN:VEVENT
DTSTART:20260515T170000Z
DTEND:20260515T200000Z
LOCATION:Gemeinschaftshaus Witenwis\, Neuchlenstrasse 38\, 9200 Gossau
TRANSP:OPAQUE
SEQUENCE:0
UID:44243-veranstaltung@kirche-gossau-flawil.ch
DTSTAMP:20260114T065736Z
DESCRIPTION:Drinks- Snacks- Fun- Friends- Musik\n\nWesthouse- der
  Jugendtreff \n\n\nFür Oberstufe von 19.00- 22.00 Uhr\n\nKontakt:
  Brigitte Süess\, Jugendarbeiterin\n\nWeitere Infos:
  https://www.kirche-gossau-flawil.ch/veranstaltung/44243
SUMMARY:Westhouse Oberstufe
PRIORITY:5
X-MICROSOFT-CDO-IMPORTANCE:1
CLASS:PUBLIC
END:VEVENT
END:VCALENDAR
