BEGIN:VCALENDAR
PRODID:-//kirchenweb.ch gmbh//veranstaltungsausgabe v2.0//DE
VERSION:2.0
METHOD:PUBLISH
BEGIN:VEVENT
DTSTART:20260520T113000Z
DTEND:20260520T140000Z
LOCATION:Treffpunkt: Altesheim Abendruh\, Neuchlenstrasse 38\, 9200 Gossau
TRANSP:OPAQUE
SEQUENCE:0
UID:44244-veranstaltung@kirche-gossau-flawil.ch
DTSTAMP:20250521T133958Z
DESCRIPTION:Die Erlebnisprogramme (EP) sind Teil der Voraussetzungen für
  die Konfirmation und sind ein Wahlpflichtprogramm für die 7. bis 9.
  Klasse. Eine Anmeldung auf pfefferstern.ch ist verpflichtend.\n\nKontakt:
  Brigitte Süess\, Jugendarbeiterin\n\nWeitere Infos:
  https://www.kirche-gossau-flawil.ch/veranstaltung/44244
SUMMARY:EP- Altersheim Abendruh
PRIORITY:5
X-MICROSOFT-CDO-IMPORTANCE:1
CLASS:PUBLIC
END:VEVENT
END:VCALENDAR
