BEGIN:VCALENDAR
PRODID:-//kirchenweb.ch gmbh//veranstaltungsausgabe v2.0//DE
VERSION:2.0
METHOD:PUBLISH
BEGIN:VEVENT
DTSTART:20260613T070000Z
DTEND:20260613T120000Z
LOCATION:Gemeinschaftshaus Witenwis\, Neuchlenstrasse 38\, 9200 Gossau
TRANSP:OPAQUE
SEQUENCE:0
UID:44248-veranstaltung@kirche-gossau-flawil.ch
DTSTAMP:20250521T134247Z
DESCRIPTION:Die Erlebnisprogramme (EP) sind Teil der Voraussetzungen für
  die Konfirmation und sind ein Wahlpflichtprogramm für die 7. bis 9.
  Klasse. Eine Anmeldung auf pfefferstern.ch ist verpflichtend.\n\nKontakt:
  Brigitte Süess\, Jugendarbeiterin\n\nPfarrer Hannes Witzig-Brändli\n
 \nWeitere Infos: https://www.kirche-gossau-flawil.ch/veranstaltung/44248
SUMMARY:EP- Velotour
PRIORITY:5
X-MICROSOFT-CDO-IMPORTANCE:1
CLASS:PUBLIC
END:VEVENT
END:VCALENDAR
