BEGIN:VCALENDAR
PRODID:-//kirchenweb.ch gmbh//veranstaltungsausgabe v2.0//DE
VERSION:2.0
METHOD:PUBLISH
BEGIN:VEVENT
DTSTART:20260613T160000Z
DTEND:20260613T190000Z
LOCATION:Gemeinschaftshaus Witenwis\, Neuchlenstrasse 38\, 9200 Gossau
TRANSP:OPAQUE
SEQUENCE:0
UID:44249-veranstaltung@kirche-gossau-flawil.ch
DTSTAMP:20250820T054436Z
DESCRIPTION:Spass- Gemeinschaft- tolle Zeit- spannende Inputs\n\nBlox- die
  Jugendgruppe für alle von der 4. bis zur 8. Klasse.\n\nKontakt: Sarah
  Rieser\, Jugendarbeiterin\n\nBrigitte Süess\, Jugendarbeiterin\n
 \nWeitere Infos: https://www.kirche-gossau-flawil.ch/veranstaltung/44249
SUMMARY:Blox- Let's melt mallows\, mit Anmeldung
PRIORITY:5
X-MICROSOFT-CDO-IMPORTANCE:1
CLASS:PUBLIC
END:VEVENT
END:VCALENDAR
