BEGIN:VCALENDAR
PRODID:-//kirchenweb.ch gmbh//veranstaltungsausgabe v2.0//DE
VERSION:2.0
METHOD:PUBLISH
BEGIN:VEVENT
DTSTART:20260617T160000Z
DTEND:20260617T180000Z
LOCATION:Gemeinschaftshaus Witenwis\, Neuchlenstrasse 38\, 9200 Gossau
TRANSP:OPAQUE
SEQUENCE:0
UID:44250-veranstaltung@kirche-gossau-flawil.ch
DTSTAMP:20250728T123138Z
DESCRIPTION:Gemeisam diskutieren- Spiele- Zeit für sich- Themen aus dem
  Alltag\n\nDer Treff ist für alle Mädchen der 4. bis 9.Klasse offen.\n
 \nKontakt: Sarah Rieser\, Jugendarbeiterin\n\nBrigitte Süess\,
  Jugendarbeiterin\n\nWeitere Infos:
  https://www.kirche-gossau-flawil.ch/veranstaltung/44250
SUMMARY:Maitli-Treff
PRIORITY:5
X-MICROSOFT-CDO-IMPORTANCE:1
CLASS:PUBLIC
END:VEVENT
END:VCALENDAR
