BEGIN:VCALENDAR
PRODID:-//kirchenweb.ch gmbh//veranstaltungsausgabe v2.0//DE
VERSION:2.0
METHOD:PUBLISH
BEGIN:VEVENT
DTSTART:20260620T150000Z
DTEND:20260620T180000Z
LOCATION:Gemeinschaftshaus Witenwis\, Neuchlenstrasse 38\, 9200 Gossau
TRANSP:OPAQUE
SEQUENCE:0
UID:44252-veranstaltung@kirche-gossau-flawil.ch
DTSTAMP:20250521T134442Z
DESCRIPTION:Drinks- Snacks- Fun- Friends- Musik\n\nDer Jugendtreff ist
  für alle Jugendliche der 4. bis 6. Klasse offen.\n\n\n\nKontakt: Simon
  Sigg\, Jugendarbeiter\n\nWeitere Infos:
  https://www.kirche-gossau-flawil.ch/veranstaltung/44252
SUMMARY:Westhouse Junior
PRIORITY:5
X-MICROSOFT-CDO-IMPORTANCE:1
CLASS:PUBLIC
END:VEVENT
END:VCALENDAR
