BEGIN:VCALENDAR
PRODID:-//kirchenweb.ch gmbh//veranstaltungsausgabe v2.0//DE
VERSION:2.0
METHOD:PUBLISH
BEGIN:VEVENT
DTSTART:20260404T143000Z
DTEND:20260404T153000Z
LOCATION:Kirche Haldenbüel\, Hochstrasse 2\, 9200 Gossau
TRANSP:OPAQUE
SEQUENCE:0
UID:44257-veranstaltung@kirche-gossau-flawil.ch
DTSTAMP:20260409T074427Z
DESCRIPTION:Eine ökumenische Osterfeier in gemütlichem Rahmen für
  Kinder von 0-6 mit ihren erwachsenen Begleitpersonen.\n\n16:30:
  Zopfhäsli und Sirup im Kirchgemeindehaus Haldenbüel\n17:00: Feier in
  der Kirche Haldenbüel\n\nHerzlich willkommen\, wir freuen uns auf euch!
 \n\n\n\n\n\nKontakt: Pfarrer Hannes Witzig-Brändli\n\nWeitere Infos:
  https://www.kirche-gossau-flawil.ch/veranstaltung/44257
SUMMARY:Fiire mit de Chline an Ostern
PRIORITY:5
X-MICROSOFT-CDO-IMPORTANCE:1
CLASS:PUBLIC
END:VEVENT
END:VCALENDAR
