BEGIN:VCALENDAR
PRODID:-//kirchenweb.ch gmbh//veranstaltungsausgabe v2.0//DE
VERSION:2.0
METHOD:PUBLISH
BEGIN:VEVENT
DTSTART:20260531T074000Z
DTEND:20260531T084000Z
LOCATION:Kirche Haldenbüel\, Hochstrasse 2\, 9200 Gossau
TRANSP:OPAQUE
SEQUENCE:0
UID:44595-veranstaltung@kirche-gossau-flawil.ch
DTSTAMP:20260302T092508Z
DESCRIPTION:Es werden konfirmiert:\n\nDetails folgen\n\nDer Kirchenbus
  fährt. Anschliessend findet ein Apéro statt.\n\nDer Gottesdienst wird
  auch live (www.ref-gossau.ch/live) übertragen oder kann zu einem
  späteren Zeitpunkt über unseren Podcast (www.ref-gossau.ch/podcast)
  angeschaut werden.\n\nKontakt: Pfarrer Christian Bernhard-Bergmaier
 \nPfarrerin Tina Bernhard-Bergmaier\n\nWeitere Infos:
  https://www.kirche-gossau-flawil.ch/veranstaltung/44595
SUMMARY:Gottesdienst "PoP uP!" - 1. Konfirmationssonntag
PRIORITY:5
X-MICROSOFT-CDO-IMPORTANCE:1
CLASS:PUBLIC
END:VEVENT
END:VCALENDAR
