BEGIN:VCALENDAR
PRODID:-//kirchenweb.ch gmbh//veranstaltungsausgabe v2.0//DE
VERSION:2.0
METHOD:PUBLISH
BEGIN:VEVENT
DTSTART:20261122T160000Z
DTEND:20261122T170000Z
LOCATION:Kirche Haldenbüel\, Hochstrasse 2\, 9200 Gossau
TRANSP:OPAQUE
SEQUENCE:0
UID:44657-veranstaltung@kirche-gossau-flawil.ch
DTSTAMP:20250708T065921Z
DESCRIPTION:Kontakt: Brigitte Maier Büchel\n\nWeitere Infos:
  https://www.kirche-gossau-flawil.ch/veranstaltung/44657
SUMMARY:Abendmusikzyklus Flawil-Gossau Konzert "la vita e bella"
PRIORITY:5
X-MICROSOFT-CDO-IMPORTANCE:1
CLASS:PUBLIC
END:VEVENT
END:VCALENDAR
