BEGIN:VCALENDAR
PRODID:-//kirchenweb.ch gmbh//veranstaltungsausgabe v2.0//DE
VERSION:2.0
METHOD:PUBLISH
BEGIN:VEVENT
DTSTART:20260613T080000Z
DTEND:20260613T090000Z
LOCATION:Katholische Kirche St. Otmar\, Arneggerstr. 3\, 9204 Andwil
TRANSP:OPAQUE
SEQUENCE:0
UID:45099-veranstaltung@kirche-gossau-flawil.ch
DTSTAMP:20250828T061422Z
DESCRIPTION:Ökumenischer Kinder-/Familiengottesdienst für Kinder bis ca.
  6 Jahre sowie ihre Eltern und Grosseltern. Anschliessend Kaffee und Sirup
  im Otmarzentrum.\n\nKontakt: Pfarrer Hannes Witzig-Brändli\n\nWeitere
  Infos: https://www.kirche-gossau-flawil.ch/veranstaltung/45099
SUMMARY:Fiire mit de Chline Andwil
PRIORITY:5
X-MICROSOFT-CDO-IMPORTANCE:1
CLASS:PUBLIC
END:VEVENT
END:VCALENDAR
