BEGIN:VCALENDAR
PRODID:-//kirchenweb.ch gmbh//veranstaltungsausgabe v2.0//DE
VERSION:2.0
METHOD:PUBLISH
BEGIN:VEVENT
DTSTART:20260621T074000Z
DTEND:20260621T084000Z
LOCATION:Kirche Haldenbüel\, Hochstrasse 2\, 9200 Gossau
TRANSP:OPAQUE
SEQUENCE:0
UID:45151-veranstaltung@kirche-gossau-flawil.ch
DTSTAMP:20260311T083129Z
DESCRIPTION:Möchten Sie Ihr Kind oder sich selbst in einer besonderen
  Gemeinschaft mit anderen Familien taufen lassen?\n\n\n\nAn diesem Sonntag
  steht die Taufe voll und ganz im Zentrum unserer Gemeinde auf dem
  Haldenbüel. Maximal stehen an diesem Sonntag 6 Taufplätze zur
  Verfügung.\n\nWir freuen uns auf das grosse Gemeinde-Tauffest mit Ihnen!
 \n\n\n\n\nKontakt: Pfarrer Hannes Witzig-Brändli\n\nWeitere Infos:
  https://www.kirche-gossau-flawil.ch/veranstaltung/45151
SUMMARY:Taufe im Mittelpunkt - Gottesdienst «Family Time»
PRIORITY:5
X-MICROSOFT-CDO-IMPORTANCE:1
CLASS:PUBLIC
END:VEVENT
END:VCALENDAR
