BEGIN:VCALENDAR
PRODID:-//kirchenweb.ch gmbh//veranstaltungsausgabe v2.0//DE
VERSION:2.0
METHOD:PUBLISH
BEGIN:VEVENT
DTSTART:20260703T043000Z
DTEND:20260703T053000Z
LOCATION:Kirche Haldenbüel\, Hochstrasse 2\, 9200 Gossau
TRANSP:OPAQUE
SEQUENCE:0
UID:45544-veranstaltung@kirche-gossau-flawil.ch
DTSTAMP:20260129T155610Z
DESCRIPTION:Gestaltung: Nicole Allenspach und Seelsorger Simon Sigg
 \nMusik: Jonathan Schaffner.\n\nAnschliessend sind alle zu Kaffee und
  Gipfeli in der Kirche eingeladen.\n\nKontakt: Nicole Allenspach\n
 \nWeitere Infos: https://www.kirche-gossau-flawil.ch/veranstaltung/45544
SUMMARY:Gebet in der Früh
PRIORITY:5
X-MICROSOFT-CDO-IMPORTANCE:1
CLASS:PUBLIC
END:VEVENT
END:VCALENDAR
