BEGIN:VCALENDAR
PRODID:-//kirchenweb.ch gmbh//veranstaltungsausgabe v2.0//DE
VERSION:2.0
METHOD:PUBLISH
BEGIN:VEVENT
DTSTART:20260505T153000Z
DTEND:20260505T163000Z
LOCATION:Otmarzentrum\, Arneggerstrasse 3\, 9204 Andwil
TRANSP:OPAQUE
SEQUENCE:0
UID:45659-veranstaltung@kirche-gossau-flawil.ch
DTSTAMP:20251006T094108Z
DESCRIPTION:Kinder und Jugendliche ab Ende der 1. Klasse finden in diesem
  Chor Platz. Die Proben finden in zwei verschiedenen Altersgruppen statt.
  Kinder und Jugendliche aller Glaubensrichtungen sind willkommen.\n\nWir
  proben jeden Dienstag im Otmarzentrum in Andwil:\n- Kinder ab Ende der 1.
  Klasse: 17.30 - 18.30 Uhr\n- Kinder und Jugendliche ab der 5. Klasse:
  18.30 - 19.30 Uhr\n\nDas Mitmachen kostet nichts. Du musst nur Plausch an
  der Musik mitbringen. Singen tut gut\, ist cool\, macht Freude. Im kids
  train lernst du\, Deine Stimme zu bilden\, miteinander zu singen\, oder
  du kannst dich an ein Solo wagen.\n\nWenn Du Lust hast\, darfst Du
  unverbindlich mal bei einer Chorprobe schnuppern.\n\nKontakt: Marcel
  Marcello Wick\n\nWeitere Infos:
  https://www.kirche-gossau-flawil.ch/veranstaltung/45659
SUMMARY:kids train Kinderchor Andwil-Arnegg
PRIORITY:5
X-MICROSOFT-CDO-IMPORTANCE:1
CLASS:PUBLIC
END:VEVENT
END:VCALENDAR
