BEGIN:VCALENDAR
PRODID:-//kirchenweb.ch gmbh//veranstaltungsausgabe v2.0//DE
VERSION:2.0
METHOD:PUBLISH
BEGIN:VEVENT
DTSTART:20260624T073000Z
DTEND:20260624T083000Z
LOCATION:Kirchgemeindehaus Haldenbüel\, Hochstrasse 4a\, 9200 Gossau
TRANSP:OPAQUE
SEQUENCE:0
UID:45733-veranstaltung@kirche-gossau-flawil.ch
DTSTAMP:20251015T062602Z
DESCRIPTION:Eltern-Baby-Singen - für Babys bis 18 Monaten\n\nRuhigen
  Klängen lauschen\, Lieder und Versli kennenlernen\, die Umgebung
  ertasten\, erkunden und geniessen. Zur Ruhe kommen und zwischendurch eine
  Massage für die Kleinsten.\n\nAnschliessend gemütliches Beisammensein.
 \nEinstieg jederzeit\, Anmeldung direkt bei Yvonne Künzle. \n\nKosten:
  CHF 64.00 / Semester (Einstieg jederzeit möglich)\n\nYvonne Künzle\,
  Hochstrasse 4a\, 9200 Gossau\, yvonne.kuenzle@kirche-gossau-flawil.ch\n
 \nKontakt: Yvonne Künzle\n\nWeitere Infos:
  https://www.kirche-gossau-flawil.ch/veranstaltung/45733
SUMMARY:Baby-Klänge
PRIORITY:5
X-MICROSOFT-CDO-IMPORTANCE:1
CLASS:PUBLIC
END:VEVENT
END:VCALENDAR
