BEGIN:VCALENDAR
PRODID:-//kirchenweb.ch gmbh//veranstaltungsausgabe v2.0//DE
VERSION:2.0
METHOD:PUBLISH
BEGIN:VEVENT
DTSTART:20260921T180000Z
DTEND:20260921T193000Z
LOCATION:Kirchgemeindehaus Haldenbüel\, Hochstrasse 4a\, 9200 Gossau
TRANSP:OPAQUE
SEQUENCE:0
UID:45788-veranstaltung@kirche-gossau-flawil.ch
DTSTAMP:20260212T141925Z
DESCRIPTION:Kontakt: Anne-Katrin Böhm\n\nWeitere Infos:
  https://www.kirche-gossau-flawil.ch/veranstaltung/45788
SUMMARY:BETTERMUT Vortrag "Autonomiephase"
PRIORITY:5
X-MICROSOFT-CDO-IMPORTANCE:1
CLASS:PUBLIC
END:VEVENT
END:VCALENDAR
