BEGIN:VCALENDAR
PRODID:-//kirchenweb.ch gmbh//veranstaltungsausgabe v2.0//DE
VERSION:2.0
METHOD:PUBLISH
BEGIN:VEVENT
DTSTART:20260421T170000Z
DTEND:20260421T190000Z
LOCATION:Gemeinschaftshaus Witenwis\, Neuchlenstrasse 38\, 9200 Gossau
TRANSP:OPAQUE
SEQUENCE:0
UID:45906-veranstaltung@kirche-gossau-flawil.ch
DTSTAMP:20251027T105026Z
DESCRIPTION:Ein Treffpunkt für Trauernde\n\nDen Verlust eines geliebten
  Menschen zu erleben und auszuhalten\, ist etwas vom Schwersten\, was uns
  das Leben abverlangt. \nDas Trauercafé steht allen Trauernden offen -
  unabhängig von Herkunft\, Religion\, Geschlecht oder Alter.\nWir
  möchten mit einem Gesprächsteil und einem kleinen Imbiss miteinander
  den Abend verbringen und Anteil nehmen.\n\nDer Besuch des Trauercafés
  ist kostenlos und eine Anmeldung ist nicht erforderlich.\n\nLeitung:
 \nFriederike Herbrechtsmeier / Pfarrerin\, 071 577 09 43\nJeanette Kempf /
  Katechetin\, 077 266 76 78\n\n\nKontakt: Pfrn. Friederike Herbrechtsmeier
 \nJeanette Kempf\n\nWeitere Infos:
  https://www.kirche-gossau-flawil.ch/veranstaltung/45906
SUMMARY:Trauercafé im s'Bistro Witenwis
PRIORITY:5
X-MICROSOFT-CDO-IMPORTANCE:1
CLASS:PUBLIC
END:VEVENT
END:VCALENDAR
