BEGIN:VCALENDAR
PRODID:-//kirchenweb.ch gmbh//veranstaltungsausgabe v2.0//DE
VERSION:2.0
METHOD:PUBLISH
BEGIN:VEVENT
DTSTART:20261212T173000Z
DTEND:20261212T183000Z
LOCATION:Kirche Haldenbüel\, Hochstrasse 2\, 9200 Gossau
TRANSP:OPAQUE
SEQUENCE:0
UID:45919-veranstaltung@kirche-gossau-flawil.ch
DTSTAMP:20260126T083057Z
DESCRIPTION:Kontakt: Balzar Collenberg\n\nWeitere Infos:
  https://www.kirche-gossau-flawil.ch/veranstaltung/45919
SUMMARY:Weihnachtskonzert Musikschule Fürstenland
PRIORITY:5
X-MICROSOFT-CDO-IMPORTANCE:1
CLASS:PUBLIC
END:VEVENT
END:VCALENDAR
