BEGIN:VCALENDAR
PRODID:-//kirchenweb.ch gmbh//veranstaltungsausgabe v2.0//DE
VERSION:2.0
METHOD:PUBLISH
BEGIN:VEVENT
DTSTART:20260518T120000Z
DTEND:20260518T130000Z
LOCATION:Kirchgemeindehaus Haldenbüel - im Kursraum\, Hochstrasse 4a\,
  9200 Gossau
TRANSP:OPAQUE
SEQUENCE:0
UID:46127-veranstaltung@kirche-gossau-flawil.ch
DTSTAMP:20251110T144500Z
DESCRIPTION:Die Gruppe strickt auch nach Mass und Ihren Wünschen. Bitte
  kontaktieren Sie Agi Frei\, agi.frei@bluewin.ch oder Anna Moore\,
  stellvertretende Leiterin der Lismigruppe\, 071 385 42 63.\n\nAlle
  Plätze sind zurzeit bei beiden Lismigruppen voll ausgeschöpft. \n
 \nKontakt: Agi Frei\n\nWeitere Infos:
  https://www.kirche-gossau-flawil.ch/veranstaltung/46127
SUMMARY:Lismigruppe
PRIORITY:5
X-MICROSOFT-CDO-IMPORTANCE:1
CLASS:PUBLIC
END:VEVENT
END:VCALENDAR
