BEGIN:VCALENDAR
PRODID:-//kirchenweb.ch gmbh//veranstaltungsausgabe v2.0//DE
VERSION:2.0
METHOD:PUBLISH
BEGIN:VEVENT
DTSTART:20261102T173000Z
DTEND:20261102T183000Z
LOCATION:Kirchgemeindehaus Haldenbüel\, Hochstrasse 4a\, 9200 Gossau
TRANSP:OPAQUE
SEQUENCE:0
UID:46290-veranstaltung@kirche-gossau-flawil.ch
DTSTAMP:20251119T103849Z
DESCRIPTION:In den Hauskreisen werden in Gruppen von etwa 10 Personen
  Bibeltexte gelesen und besprochen. Dabei wird der Anwendung und
  Verbindung zum heutigen Leben grosse Beachtung geschenkt. Das gemeinsame
  Beten sowie der Austausch über persönliche Alltagsfragen bilden weitere
  wichtige Bestandteile.\n\nEdith Süess 071 385 85 49\n\nKontakt: Edith
  Süess\n\n\nWeitere Infos:
  https://www.kirche-gossau-flawil.ch/veranstaltung/46290
SUMMARY:Hauskreis Haldenbüel
PRIORITY:5
X-MICROSOFT-CDO-IMPORTANCE:1
CLASS:PUBLIC
END:VEVENT
END:VCALENDAR
