BEGIN:VCALENDAR
PRODID:-//kirchenweb.ch gmbh//veranstaltungsausgabe v2.0//DE
VERSION:2.0
METHOD:PUBLISH
BEGIN:VEVENT
DTSTART:20260427T120000Z
DTEND:20260427T143000Z
LOCATION:Gemeinschaftshaus Witenwis\, Neuchlenstrasse 38\, 9200 Gossau
TRANSP:OPAQUE
SEQUENCE:0
UID:46298-veranstaltung@kirche-gossau-flawil.ch
DTSTAMP:20251120T061245Z
DESCRIPTION:Machen Sie gerne Gesellschaftsspiele? Dann sind Sie herzlich
  willkommen. Wir treffen uns einmal im Monat für einen gemütlichen
  Spiele - Nachmittag im s'Bistro Witenwis. Es gibt diverse Angebote. Gerne
  können Sie auch ihr Lieblingsspiel mitnehmen und den Anderen beibringen.
 \n\nKontakt: Margrit Frei\, 071 385 60 75\n\nWeitere Infos:
  https://www.kirche-gossau-flawil.ch/veranstaltung/46298
SUMMARY:Spiele- und Jass Nachmittag für Alle
PRIORITY:5
X-MICROSOFT-CDO-IMPORTANCE:1
CLASS:PUBLIC
END:VEVENT
END:VCALENDAR
