BEGIN:VCALENDAR
PRODID:-//kirchenweb.ch gmbh//veranstaltungsausgabe v2.0//DE
VERSION:2.0
METHOD:PUBLISH
BEGIN:VEVENT
DTSTART:20260504T160000Z
DTEND:20260504T170000Z
LOCATION:Gemeinschaftshaus Witenwis\, Neuchlenstrasse 38\, 9200 Gossau
TRANSP:OPAQUE
SEQUENCE:0
UID:46303-veranstaltung@kirche-gossau-flawil.ch
DTSTAMP:20251120T062336Z
DESCRIPTION:Haben Sie Fragen an unseren Stadtpräsidenten? Er ist vor Ort
  und hört ihnen zu. Im Gemeinschaftshaus Witenwis besteht die
  Möglichkeit\, im Plenum zu diskutieren oder ein persönliches Gespräch
  zu führen. Anmeldung ist nicht nötig.\n\nKontakt: Annette Joss\,
  Wolfgang Giella\n\nWeitere Infos:
  https://www.kirche-gossau-flawil.ch/veranstaltung/46303
SUMMARY:Stapi Treff
PRIORITY:5
X-MICROSOFT-CDO-IMPORTANCE:1
CLASS:PUBLIC
END:VEVENT
END:VCALENDAR
