BEGIN:VCALENDAR
PRODID:-//kirchenweb.ch gmbh//veranstaltungsausgabe v2.0//DE
VERSION:2.0
METHOD:PUBLISH
BEGIN:VEVENT
DTSTART:20260405T074000Z
DTEND:20260405T084000Z
LOCATION:Kirche Haldenbüel\, Hochstrasse 2\, 9200 Gossau
TRANSP:OPAQUE
SEQUENCE:0
UID:46367-veranstaltung@kirche-gossau-flawil.ch
DTSTAMP:20260318T074406Z
DESCRIPTION:Beim Gottesdienst mit musikalischen Gästen ist das Label
  Programm. Musikalische Gäste gestalten den Gottesdienst wesentlich mit
  und schaffen mit ihrer Musik eine besondere Atmosphäre.\n\nDer
  Kirchenbus fährt und der Kirchenkaffee findet statt!\n\nKontakt: Pfarrer
  Hannes Witzig-Brändli\n\nWeitere Infos:
  https://www.kirche-gossau-flawil.ch/veranstaltung/46367
SUMMARY:Gottesdienst "mit musikalischen Gästen" Ostern
PRIORITY:5
X-MICROSOFT-CDO-IMPORTANCE:1
CLASS:PUBLIC
END:VEVENT
END:VCALENDAR
