BEGIN:VCALENDAR
PRODID:-//kirchenweb.ch gmbh//veranstaltungsausgabe v2.0//DE
VERSION:2.0
METHOD:PUBLISH
BEGIN:VEVENT
DTSTART:20260419T074000Z
DTEND:20260419T084000Z
LOCATION:Kirche Haldenbüel\, Hochstrasse 2\, 9200 Gossau
TRANSP:OPAQUE
SEQUENCE:0
UID:46373-veranstaltung@kirche-gossau-flawil.ch
DTSTAMP:20260416T092108Z
DESCRIPTION:Einmal im Monat ploppt der PoP uP! Gottesdienst auf. Zeit für
  eine Pause mit populärer Musik und Predigt. Statt Orgel ist Pop\,
  Gospel\, Soul und mehr angesagt. Wir singen moderne Kirchenlieder\, die
  von einer Band oder einem Chor begleitet werden können.\n\nDer
  Kirchenbus fährt und der Kirchenkaffee findet statt!\n\nKontakt: Pfarrer
  Christian Bernhard-Bergmaier\n\nWeitere Infos:
  https://www.kirche-gossau-flawil.ch/veranstaltung/46373
SUMMARY:Gottesdienst "PoP uP!" mit Taufe - Predigtreihe
PRIORITY:5
X-MICROSOFT-CDO-IMPORTANCE:1
CLASS:PUBLIC
END:VEVENT
END:VCALENDAR
