BEGIN:VCALENDAR
PRODID:-//kirchenweb.ch gmbh//veranstaltungsausgabe v2.0//DE
VERSION:2.0
METHOD:PUBLISH
BEGIN:VEVENT
DTSTART:20260426T073000Z
DTEND:20260426T083000Z
LOCATION:Feuerstelle Vita Parcours Buechenwald\, \, 9200 Gossau
TRANSP:OPAQUE
SEQUENCE:0
UID:46374-veranstaltung@kirche-gossau-flawil.ch
DTSTAMP:20260409T075544Z
DESCRIPTION:Waldgottesdienst für alle Generationen im Buechenwald
  (Feuerstelle Vita Parcours: Schlechtwetter: Gemeinschaftshaus Witenwis)\n
 \nZusammen feiern wir einen kreativen\, lustigen und erlebnisreichen
  Familiengottesdienst und lassen uns von der Natur um uns herum
  inspirieren. Anschliessend an den Gottesdienst geniessen wir den Wald\,
  das Feuer und schlagen uns die Bäuche voll.\n\n9:30 Treffpunkt
  Waldeingang https://maps.app.goo.gl/om7EGjsEjoQYFSAB9\n10:00
  Waldgottesdienst beim Vita-Parcours\ndanach: Bräteln\, Basteln\,
  geniessen\n\nSchlechtwetterprogramm: Gemeinschaftshaus Witenwis. Info
  über Durchführungsort bis am 25.4. 16:00 auf dieser Seite.\n
 \nMitnehmen: Grillgut\, Becher\, Trinkflasche\, Sitzmätteli bei Bedarf
 \nWir bieten: Brot\, Kaffee\, Sirup\, Schlangenbrot\, Kuchen und ein
  heisses Feuer\n\n\nKeine Anmeldung nötig\n\nKontakt: Pfarrer Hannes
  Witzig-Brändli\n077 524 15 60\n\nWeitere Infos:
  https://www.kirche-gossau-flawil.ch/veranstaltung/46374
SUMMARY:Waldgottesdienst "Family Time"
PRIORITY:5
X-MICROSOFT-CDO-IMPORTANCE:1
CLASS:PUBLIC
END:VEVENT
END:VCALENDAR
