BEGIN:VCALENDAR
PRODID:-//kirchenweb.ch gmbh//veranstaltungsausgabe v2.0//DE
VERSION:2.0
METHOD:PUBLISH
BEGIN:VEVENT
DTSTART:20260503T074000Z
DTEND:20260503T084000Z
LOCATION:Kirche Haldenbüel\, Hochstrasse 2\, 9200 Gossau
TRANSP:OPAQUE
SEQUENCE:0
UID:46375-veranstaltung@kirche-gossau-flawil.ch
DTSTAMP:20260407T122707Z
DESCRIPTION:Für Kulturinteressierte ist das Label Kultur&Bibel
  konzipiert. Alle zwei Monate werden Kunst\, Literatur\, Theater\, Film
  oder Social Media mit biblischen Texten in Beziehung gesetzt. Kulturelle
  Teile\, wie zum Beispiel eine kurze literarische Lesung oder ein Video\,
  bereichern diesen Gottesdienst.\n\nDer Kirchenbus fährt und der
  Kirchenkaffee findet statt!\n\nDer Gottesdienst wird auch live
  (www.ref-gossau.ch/live) übertragen oder kann zu einem späteren
  Zeitpunkt über unseren Podcast (www.ref-gossau.ch/podcast) angeschaut
  werden.\n\nKontakt: Pfarrerin Friederike Herbrechtsmeier\n\nWeitere
  Infos: https://www.kirche-gossau-flawil.ch/veranstaltung/46375
SUMMARY:Gottesdienst "Kultur&Bibel" FairTrade mit Taufen
PRIORITY:5
X-MICROSOFT-CDO-IMPORTANCE:1
CLASS:PUBLIC
END:VEVENT
END:VCALENDAR
