BEGIN:VCALENDAR
PRODID:-//kirchenweb.ch gmbh//veranstaltungsausgabe v2.0//DE
VERSION:2.0
METHOD:PUBLISH
BEGIN:VEVENT
DTSTART:20260607T074000Z
DTEND:20260607T084000Z
LOCATION:Kirche Haldenbüel\, Hochstrasse 2\, 9200 Gossau
TRANSP:OPAQUE
SEQUENCE:0
UID:46379-veranstaltung@kirche-gossau-flawil.ch
DTSTAMP:20260302T092521Z
DESCRIPTION:Einmal im Monat ploppt der PoP uP! Gottesdienst auf. Zeit für
  eine Pause mit populärer Musik und Predigt. Statt Orgel ist Pop\,
  Gospel\, Soul und mehr angesagt. Wir singen moderne Kirchenlieder\, die
  von einer Band oder einem Chor begleitet werden können. Nach dem
  Konfirmations-Gottesdienst gibt es einen Apéro.\n\nDer Kirchenbus
  fährt.\n\nDer Gottesdienst wird auch live (www.ref-gossau.ch/live)
  übertragen oder kann zu einem späteren Zeitpunkt über unseren Podcast
  (www.ref-gossau.ch/podcast) angeschaut werden.\n\nKontakt: Pfarrerin Tina
  Bernhard-Bergmaier und \nPfarrer Christian Bernhard-Bergmaier\n\nWeitere
  Infos: https://www.kirche-gossau-flawil.ch/veranstaltung/46379
SUMMARY:Gottesdienst "PoP uP!" - 2. Konfirmationssonntag
PRIORITY:5
X-MICROSOFT-CDO-IMPORTANCE:1
CLASS:PUBLIC
END:VEVENT
END:VCALENDAR
