BEGIN:VCALENDAR
PRODID:-//kirchenweb.ch gmbh//veranstaltungsausgabe v2.0//DE
VERSION:2.0
METHOD:PUBLISH
BEGIN:VEVENT
DTSTART:20260510T074000Z
DTEND:20260510T084000Z
LOCATION:Kirche Haldenbüel\, Hochstrasse 2\, 9200 Gossau
TRANSP:OPAQUE
SEQUENCE:0
UID:46409-veranstaltung@kirche-gossau-flawil.ch
DTSTAMP:20260420T062547Z
DESCRIPTION:Mögen Sie einen schlichten Ablauf\, eine zeitgemässe
  Predigt\, Orgelmusik und Lieder aus dem reformierten Gesangbuch? Dann ist
  der Gottesdienst mit dem Label einfach ruhig etwas für Sie.\n\nDer
  Kirchenbus fährt und der Kirchenkaffee findet statt!\n\nDer Gottesdienst
  wird auch live (www.ref-gossau.ch/live) übertragen oder kann zu einem
  späteren Zeitpunkt über unseren Podcast (www.ref-gossau.ch/podcast)
  angeschaut werden.\n\n\nKontakt: Nicole Bruderer\n\nWeitere Infos:
  https://www.kirche-gossau-flawil.ch/veranstaltung/46409
SUMMARY:Gottesdienst "einfach ruhig" Begegnung im Morgengrauen:
  Mutterbilder im Zwiespalt
PRIORITY:5
X-MICROSOFT-CDO-IMPORTANCE:1
CLASS:PUBLIC
END:VEVENT
END:VCALENDAR
