BEGIN:VCALENDAR
PRODID:-//kirchenweb.ch gmbh//veranstaltungsausgabe v2.0//DE
VERSION:2.0
METHOD:PUBLISH
BEGIN:VEVENT
DTSTART:20260801T080000Z
DTEND:20260801T090000Z
LOCATION:Andreaskirche Gossau\, Herisauerstrasse 1\, 9200 Gossau
TRANSP:OPAQUE
SEQUENCE:0
UID:46416-veranstaltung@kirche-gossau-flawil.ch
DTSTAMP:20251218T073959Z
DESCRIPTION:Der Kirchenbus fährt nicht. Nach dem Gottesdienst findet ein
  1. August Apéro statt.\n\nAm Sonntag\, 2. August\, findet kein
  Gottesdienst auf dem Haldenbüel statt.\n\nKontakt: Pfarrerin Friederike
  Herbrechtsmeier\n\nWeitere Infos:
  https://www.kirche-gossau-flawil.ch/veranstaltung/46416
SUMMARY:Ökumenischer Gottesdienst zum 1. August
PRIORITY:5
X-MICROSOFT-CDO-IMPORTANCE:1
CLASS:PUBLIC
END:VEVENT
END:VCALENDAR
