BEGIN:VCALENDAR
PRODID:-//kirchenweb.ch gmbh//veranstaltungsausgabe v2.0//DE
VERSION:2.0
METHOD:PUBLISH
BEGIN:VEVENT
DTSTART:20260809T160000Z
DTEND:20260809T170000Z
LOCATION:Gemeinschaftshaus Witenwis\, Neuchlenstrasse 38\, 9200 Gossau
TRANSP:OPAQUE
SEQUENCE:0
UID:46417-veranstaltung@kirche-gossau-flawil.ch
DTSTAMP:20251201T102122Z
DESCRIPTION:Nach dem Gottesdienst gibt es einen Umtrunk. Findet bei jedem
  Wetter statt.\n\nKontakt: Pfarrerin Friederike Herbrechtsmeier\n\nWeitere
  Infos: https://www.kirche-gossau-flawil.ch/veranstaltung/46417
SUMMARY:Ökumenischer Abendgottesdienst auf dem roten Platz im Witenwis
PRIORITY:5
X-MICROSOFT-CDO-IMPORTANCE:1
CLASS:PUBLIC
END:VEVENT
END:VCALENDAR
