BEGIN:VCALENDAR
PRODID:-//kirchenweb.ch gmbh//veranstaltungsausgabe v2.0//DE
VERSION:2.0
METHOD:PUBLISH
BEGIN:VEVENT
DTSTART:20260823T074000Z
DTEND:20260823T084000Z
LOCATION:Kirche Haldenbüel\, Hochstrasse 2\, 9200 Gossau
TRANSP:OPAQUE
SEQUENCE:0
UID:46419-veranstaltung@kirche-gossau-flawil.ch
DTSTAMP:20260302T092820Z
DESCRIPTION:Wenn Sie gerne mit Kindern feiern\, dann sind Sie wie bisher
  alle zwei Monate zur Family Time mit Geschichten\, kreativen Elementen\,
  kindgerechten Liedern und einer kurzen Predigt eingeladen.\n\nAlle
  Kinder\, Eltern\, Grosseltern und Familien sind herzlich willkommen bei
  Family Time. \n\nDer Kirchenbus fährt und der Kirchenkaffee findet
  statt!\n\nDer Gottesdienst wird auch live (www.ref-gossau.ch/live)
  übertragen oder kann zu einem späteren Zeitpunkt über unseren Podcast
  (www.ref-gossau.ch/podcast) angeschaut werden.\n\n\n\nKontakt: Pfarrer
  Hannes Witzig-Brändli\n\nWeitere Infos:
  https://www.kirche-gossau-flawil.ch/veranstaltung/46419
SUMMARY:Gottesdienst "Family Time" zum Schulanfang
PRIORITY:5
X-MICROSOFT-CDO-IMPORTANCE:1
CLASS:PUBLIC
END:VEVENT
END:VCALENDAR
