BEGIN:VCALENDAR
PRODID:-//kirchenweb.ch gmbh//veranstaltungsausgabe v2.0//DE
VERSION:2.0
METHOD:PUBLISH
BEGIN:VEVENT
DTSTART:20260906T074000Z
DTEND:20260906T084000Z
LOCATION:Bruder-Klaus-Kapelle Schwägalp\, Schwägalp 777\, 9107 Urnäsch
TRANSP:OPAQUE
SEQUENCE:0
UID:46421-veranstaltung@kirche-gossau-flawil.ch
DTSTAMP:20260409T091950Z
DESCRIPTION:Pfarrerin Friederike Herbrechtsmeier und musikalische Gäste
  gestalten den Alp-Gottesdienst in einer besonderen Atmosphäre.\nWir
  runden den feierlichen Anlass mit einem feinen Imbiss im Restaurant
  Passhöhe ab.\n\n\nKontakt: Pfarrerin Friederike Herbrechtsmeier\n
 \nWeitere Infos: https://www.kirche-gossau-flawil.ch/veranstaltung/46421
SUMMARY:Gottesdienst "mit musikalischen Gästen" - Predigtreihe
PRIORITY:5
X-MICROSOFT-CDO-IMPORTANCE:1
CLASS:PUBLIC
END:VEVENT
END:VCALENDAR
