BEGIN:VCALENDAR
PRODID:-//kirchenweb.ch gmbh//veranstaltungsausgabe v2.0//DE
VERSION:2.0
METHOD:PUBLISH
BEGIN:VEVENT
DTSTART:20260920T074000Z
DTEND:20260920T084000Z
LOCATION:Kirche Haldenbüel\, Hochstrasse 2\, 9200 Gossau
TRANSP:OPAQUE
SEQUENCE:0
UID:46423-veranstaltung@kirche-gossau-flawil.ch
DTSTAMP:20260302T092956Z
DESCRIPTION:Beim Gottesdienst mit musikalischen Gästen ist das Label
  Programm. Musikalische Gäste gestalten den Gottesdienst wesentlich mit
  und schaffen mit ihrer Musik eine besondere Atmosphäre.\n\nDer
  Kirchenbus fährt und der Kirchenkaffee findet statt!\n\nDer Gottesdienst
  wird auch live (www.ref-gossau.ch/live) übertragen oder kann zu einem
  späteren Zeitpunkt über unseren Podcast (www.ref-gossau.ch/podcast)
  angeschaut werden.\n\nKontakt: Pfarrerin Tina Bernhard-Bergmaier\n
 \nWeitere Infos: https://www.kirche-gossau-flawil.ch/veranstaltung/46423
SUMMARY:Gottesdienst "mit musikalischen Gästen" zum Eidg. Dank-\, Buss-
  und Bettag
PRIORITY:5
X-MICROSOFT-CDO-IMPORTANCE:1
CLASS:PUBLIC
END:VEVENT
END:VCALENDAR
