BEGIN:VCALENDAR
PRODID:-//kirchenweb.ch gmbh//veranstaltungsausgabe v2.0//DE
VERSION:2.0
METHOD:PUBLISH
BEGIN:VEVENT
DTSTART:20261018T074000Z
DTEND:20261018T084000Z
LOCATION:Oberglatt\, \, 9230 Flawil
TRANSP:OPAQUE
SEQUENCE:0
UID:46427-veranstaltung@kirche-gossau-flawil.ch
DTSTAMP:20251204T101442Z
DESCRIPTION:Der Kirchenbus fährt.\n\n\n\nKontakt: Pfarrerin Sabine
  Gritzner-Stoffers\n\nWeitere Infos:
  https://www.kirche-gossau-flawil.ch/veranstaltung/46427
SUMMARY:Regio-Gottesdienst in der Kirche Oberglatt
PRIORITY:5
X-MICROSOFT-CDO-IMPORTANCE:1
CLASS:PUBLIC
END:VEVENT
END:VCALENDAR
