BEGIN:VCALENDAR
PRODID:-//kirchenweb.ch gmbh//veranstaltungsausgabe v2.0//DE
VERSION:2.0
METHOD:PUBLISH
BEGIN:VEVENT
DTSTART:20261025T084000Z
DTEND:20261025T094000Z
LOCATION:Kirche Haldenbüel\, Hochstrasse 2\, 9200 Gossau
TRANSP:OPAQUE
SEQUENCE:0
UID:46428-veranstaltung@kirche-gossau-flawil.ch
DTSTAMP:20260302T093103Z
DESCRIPTION:Mögen Sie einen schlichten Ablauf\, eine zeitgemässe
  Predigt\, Orgelmusik und Lieder aus dem reformierten Gesangbuch? Dann ist
  der Gottesdienst mit dem Label einfach ruhig etwas für Sie\, danach
  Suppenzmittag im Kirchgemeindehaus Haldenbüel.\n\nDer Kirchenbus fährt.
 \n\nDer Gottesdienst wird auch live (www.ref-gossau.ch/live) übertragen
  oder kann zu einem späteren Zeitpunkt über unseren Podcast
  (www.ref-gossau.ch/podcast) angeschaut werden.\n\n\nKontakt: Pfarrerin
  Friederike Herbrechtsmeier\n\nWeitere Infos:
  https://www.kirche-gossau-flawil.ch/veranstaltung/46428
SUMMARY:Gottesdienst "einfach ruhig" zum Erntedankfest mit Suppenzmittag
PRIORITY:5
X-MICROSOFT-CDO-IMPORTANCE:1
CLASS:PUBLIC
END:VEVENT
END:VCALENDAR
