BEGIN:VCALENDAR
PRODID:-//kirchenweb.ch gmbh//veranstaltungsausgabe v2.0//DE
VERSION:2.0
METHOD:PUBLISH
BEGIN:VEVENT
DTSTART:20261101T084000Z
DTEND:20261101T094000Z
LOCATION:Kirche Haldenbüel\, Hochstrasse 2\, 9200 Gossau
TRANSP:OPAQUE
SEQUENCE:0
UID:46429-veranstaltung@kirche-gossau-flawil.ch
DTSTAMP:20260302T093126Z
DESCRIPTION:Beim Gottesdienst mit musikalischen Gästen ist das Label
  Programm. Musikalische Gäste gestalten den Gottesdienst wesentlich mit
  und schaffen mit ihrer Musik eine besondere Atmosphäre.\n\nWir gedenken
  der Verstorbenen\, welche zwischen dem 1. Oktober 2025 und 30. September
  2026 von uns gegangen sind.\n\nDer Kirchenbus fährt und der
  Kirchenkaffee findet statt!\n\nDer Gottesdienst wird auch live
  (www.ref-gossau.ch/live) übertragen oder kann zu einem späteren
  Zeitpunkt über unseren Podcast (www.ref-gossau.ch/podcast) angeschaut
  werden.\n\nKontakt: Pfarrer Hannes Witzig-Brändli\n\nWeitere Infos:
  https://www.kirche-gossau-flawil.ch/veranstaltung/46429
SUMMARY:Gottesdienst "mit musikalischen Gästen" zum Gedenken der
  Verstorbenen
PRIORITY:5
X-MICROSOFT-CDO-IMPORTANCE:1
CLASS:PUBLIC
END:VEVENT
END:VCALENDAR
