BEGIN:VCALENDAR
PRODID:-//kirchenweb.ch gmbh//veranstaltungsausgabe v2.0//DE
VERSION:2.0
METHOD:PUBLISH
BEGIN:VEVENT
DTSTART:20261108T084000Z
DTEND:20261108T094000Z
LOCATION:Kirche Haldenbüel\, Hochstrasse 2\, 9200 Gossau
TRANSP:OPAQUE
SEQUENCE:0
UID:46430-veranstaltung@kirche-gossau-flawil.ch
DTSTAMP:20260302T093136Z
DESCRIPTION:Einmal im Monat ploppt der PoP uP! Gottesdienst auf. Zeit für
  eine Pause mit populärer Musik und Predigt. Statt Orgel ist Pop\,
  Gospel\, Soul und mehr angesagt. Wir singen moderne Kirchenlieder\, die
  von einer Band oder einem Chor begleitet werden können.\n\nDer
  Kirchenbus fährt und der Kirchenkaffee findet statt!\n\nDer Gottesdienst
  wird auch live (www.ref-gossau.ch/live) übertragen oder kann zu einem
  späteren Zeitpunkt über unseren Podcast (www.ref-gossau.ch/podcast)
  angeschaut werden.\n\nKontakt: Pfarrer Christian Bernhard-Bergmaier\n
 \nWeitere Infos: https://www.kirche-gossau-flawil.ch/veranstaltung/46430
SUMMARY:Gottesdienst "PoP uP!" zur Reformation mit Abendmahl
PRIORITY:5
X-MICROSOFT-CDO-IMPORTANCE:1
CLASS:PUBLIC
END:VEVENT
END:VCALENDAR
