BEGIN:VCALENDAR
PRODID:-//kirchenweb.ch gmbh//veranstaltungsausgabe v2.0//DE
VERSION:2.0
METHOD:PUBLISH
BEGIN:VEVENT
DTSTART:20261114T160000Z
DTEND:20261114T170000Z
LOCATION:Kirche Haldenbüel\, Hochstrasse 2\, 9200 Gossau
TRANSP:OPAQUE
SEQUENCE:0
UID:46446-veranstaltung@kirche-gossau-flawil.ch
DTSTAMP:20260302T093152Z
DESCRIPTION:Die Gestaltung und Vorbereitung des Gottesdienstes KraftBar
  erfolgt durch ein Team. Spezielle Elemente machen diesen Gottesdienst zu
  einem Ort\, wo neue Kraft getankt werden kann. Die «Singgruppe»
  unterstützt bei den Liedern. \n\nMit Kinderbetreuung\, anschliessend
  Imbiss in der Kirche.\n\nDer Gottesdienst wird auch live
  (www.ref-gossau.ch/live) übertragen oder kann zu einem späteren
  Zeitpunkt über unseren Podcast (www.ref-gossau.ch/podcast) angeschaut
  werden.\n\nAm Sonntag findet auf dem Haldenbüel kein Gottesdienst statt.
 \n\nKontakt: Pfarrerin Tina Bernhard-Bergmaier\n\nWeitere Infos:
  https://www.kirche-gossau-flawil.ch/veranstaltung/46446
SUMMARY:Gottesdienst "KraftBar" mit Abendmahl
PRIORITY:5
X-MICROSOFT-CDO-IMPORTANCE:1
CLASS:PUBLIC
END:VEVENT
END:VCALENDAR
